BEGIN:VCALENDAR
VERSION:2.0
PRODID:-//Gelligaer Ramblers - ECPv6.15.20//NONSGML v1.0//EN
CALSCALE:GREGORIAN
METHOD:PUBLISH
X-ORIGINAL-URL:https://ramblersgelligaergroup.co.uk
X-WR-CALDESC:Events for Gelligaer Ramblers
REFRESH-INTERVAL;VALUE=DURATION:PT1H
X-Robots-Tag:noindex
X-PUBLISHED-TTL:PT1H
BEGIN:VTIMEZONE
TZID:Europe/Paris
BEGIN:DAYLIGHT
TZOFFSETFROM:+0100
TZOFFSETTO:+0200
TZNAME:CEST
DTSTART:20240331T010000
END:DAYLIGHT
BEGIN:STANDARD
TZOFFSETFROM:+0200
TZOFFSETTO:+0100
TZNAME:CET
DTSTART:20241027T010000
END:STANDARD
BEGIN:DAYLIGHT
TZOFFSETFROM:+0100
TZOFFSETTO:+0200
TZNAME:CEST
DTSTART:20250330T010000
END:DAYLIGHT
BEGIN:STANDARD
TZOFFSETFROM:+0200
TZOFFSETTO:+0100
TZNAME:CET
DTSTART:20251026T010000
END:STANDARD
BEGIN:DAYLIGHT
TZOFFSETFROM:+0100
TZOFFSETTO:+0200
TZNAME:CEST
DTSTART:20260329T010000
END:DAYLIGHT
BEGIN:STANDARD
TZOFFSETFROM:+0200
TZOFFSETTO:+0100
TZNAME:CET
DTSTART:20261025T010000
END:STANDARD
END:VTIMEZONE
BEGIN:VTIMEZONE
TZID:UTC
BEGIN:STANDARD
TZOFFSETFROM:+0000
TZOFFSETTO:+0000
TZNAME:UTC
DTSTART:20240101T000000
END:STANDARD
END:VTIMEZONE
BEGIN:VEVENT
DTSTART;TZID=Europe/Paris:20250406T100000
DTEND;TZID=Europe/Paris:20250406T143000
DTSTAMP:20260423T121727
CREATED:20250403T085136Z
LAST-MODIFIED:20250403T085136Z
UID:4656-1743933600-1743949800@ramblersgelligaergroup.co.uk
SUMMARY:Green meadow/Gelligaer Common Loop
DESCRIPTION:Meet at Pengam Riverside car park 10 am \n7.5 m mod \nhttp://What3words.com///escape.papers.tunes
URL:https://ramblersgelligaergroup.co.uk/event/green-meadow-gelligaer-common-loop/
CATEGORIES:Sunday Walks Schedule
END:VEVENT
BEGIN:VEVENT
DTSTART;TZID=UTC:20250412T100000
DTEND;TZID=UTC:20250412T133000
DTSTAMP:20260423T121727
CREATED:20230116T180713Z
LAST-MODIFIED:20250321T200834Z
UID:3135-1744452000-1744464600@ramblersgelligaergroup.co.uk
SUMMARY:Abercynon
DESCRIPTION:Taff trail towards the Gap \nMeet at car park on the right after Navigation pub \nhttp://What3words.com///burden.crisper.venturing
URL:https://ramblersgelligaergroup.co.uk/event/abercynon/
CATEGORIES:Saturday Walks Schedule
END:VEVENT
BEGIN:VEVENT
DTSTART;TZID=Europe/Paris:20250413T100000
DTEND;TZID=Europe/Paris:20250413T153000
DTSTAMP:20260423T121727
CREATED:20250407T213254Z
LAST-MODIFIED:20250407T213723Z
UID:4670-1744538400-1744558200@ramblersgelligaergroup.co.uk
SUMMARY:Brecon Mountain Centre
DESCRIPTION:An 8 mile moderate walk starting  from the Brecon Beacons visitors centre at 10 am..The walk passies through Cwm Camlais and Cefn Llechid and offers views of the mountains without climbing them! \nParking at the Mountain Centre is £3 for over 4 hrs (pay by card or cash) . Take the A470 \, pass the Storey Arms and take a sharp left turn just as you reach the 50 mph limit for Libanus.  There is a large brown ‘visitors attraction sign.. \nhttps://what3words.com///chase.argued.mentioned \n 
URL:https://ramblersgelligaergroup.co.uk/event/brecon-mountain-centre/
CATEGORIES:Sunday Walks Schedule
END:VEVENT
BEGIN:VEVENT
DTSTART;TZID=UTC:20250420T100000
DTEND;TZID=UTC:20250420T153000
DTSTAMP:20260423T121727
CREATED:20220620T114745Z
LAST-MODIFIED:20250413T185612Z
UID:2041-1745143200-1745163000@ramblersgelligaergroup.co.uk
SUMMARY:Machen Walk
DESCRIPTION:Distance :- 8 miles moderate. \nhttp:what3words.com///swells.artichoke.livid \nDirections to start :- Take A 468 through Bedwas and Trethomas into Machen.   After passing the school turn sharp right at the pharmacy.  Turn right again just before the river bridge \nRoute of walk :- Machen > Draethen > Ruperra Fort > Maenllwyd > Waterloo \nClick for map of walk (use back arrow to return to website): Machen 8 \n 
URL:https://ramblersgelligaergroup.co.uk/event/machen-walk/
CATEGORIES:Sunday Walks Schedule
END:VEVENT
BEGIN:VEVENT
DTSTART;TZID=Europe/Paris:20250426T100000
DTEND;TZID=Europe/Paris:20250426T143000
DTSTAMP:20260423T121727
CREATED:20250405T074435Z
LAST-MODIFIED:20250405T074632Z
UID:4663-1745661600-1745677800@ramblersgelligaergroup.co.uk
SUMMARY:Llandegfedd Reservoir
DESCRIPTION:Meet in visitor’s car park 10 am. Car parking charges £3 all day.\nNP4 0SY \nhttp://What3words.com///went.young.hoped \n  \n 
URL:https://ramblersgelligaergroup.co.uk/event/llandegfedd-reservoir-2/
CATEGORIES:Saturday Walks Schedule
END:VEVENT
BEGIN:VEVENT
DTSTART;TZID=Europe/Paris:20250427T100000
DTEND;TZID=Europe/Paris:20250427T150000
DTSTAMP:20260423T121727
CREATED:20250417T113105Z
LAST-MODIFIED:20250417T113334Z
UID:4678-1745748000-1745766000@ramblersgelligaergroup.co.uk
SUMMARY:Dinas Powys Circular
DESCRIPTION:A  7 mile moderate circular walk through to the west of Dinas Powys. some undulations but no noticeable climbs. It passes through fields and countryside with woodland and lakes. Instead of a ‘sting in the tail’\, this walk has a ‘sugar coated ending’ with a section through woodland where wild garlic grows in abundance.  The cherry on the top is that there is a pub at the end. (In fact there are three!). \nhttps://what3words.com///poppy.towers.like \nDirections: \n\nTake M4 towards Bridgend\nLeave at first junction [J.33] and follow the A4232 –  Ely link road\nTake the junction AFTER Culverhouse Cross (signed for Cardiff City Football Ground)\nTake the 4th exit for the B4267  going under the dual carriageway and up Leckwith Hill\nAfter passing a section with a central bollard take the central slip lane for the right turn up the hill to Dinas Powys\nAt the junction in the main square of the village\, continue straight on (passing the village green on your right)\nTurn right at the PINK HOUSE and park on the road alongside the common\n\nFor those who have completed the ‘Salmon’s Leap’ Saturday walk the start point is the same but it is a different walk although the final couple of miles follows part of the Salmon’s leap walk in reverse. \n 
URL:https://ramblersgelligaergroup.co.uk/event/dinas-powys-circular/
CATEGORIES:Sunday Walks Schedule
END:VEVENT
END:VCALENDAR