BEGIN:VCALENDAR
VERSION:2.0
PRODID:-//Gelligaer Ramblers - ECPv6.15.20//NONSGML v1.0//EN
CALSCALE:GREGORIAN
METHOD:PUBLISH
X-ORIGINAL-URL:https://ramblersgelligaergroup.co.uk
X-WR-CALDESC:Events for Gelligaer Ramblers
REFRESH-INTERVAL;VALUE=DURATION:PT1H
X-Robots-Tag:noindex
X-PUBLISHED-TTL:PT1H
BEGIN:VTIMEZONE
TZID:Europe/Paris
BEGIN:DAYLIGHT
TZOFFSETFROM:+0100
TZOFFSETTO:+0200
TZNAME:CEST
DTSTART:20230326T010000
END:DAYLIGHT
BEGIN:STANDARD
TZOFFSETFROM:+0200
TZOFFSETTO:+0100
TZNAME:CET
DTSTART:20231029T010000
END:STANDARD
BEGIN:DAYLIGHT
TZOFFSETFROM:+0100
TZOFFSETTO:+0200
TZNAME:CEST
DTSTART:20240331T010000
END:DAYLIGHT
BEGIN:STANDARD
TZOFFSETFROM:+0200
TZOFFSETTO:+0100
TZNAME:CET
DTSTART:20241027T010000
END:STANDARD
BEGIN:DAYLIGHT
TZOFFSETFROM:+0100
TZOFFSETTO:+0200
TZNAME:CEST
DTSTART:20250330T010000
END:DAYLIGHT
BEGIN:STANDARD
TZOFFSETFROM:+0200
TZOFFSETTO:+0100
TZNAME:CET
DTSTART:20251026T010000
END:STANDARD
END:VTIMEZONE
BEGIN:VTIMEZONE
TZID:UTC
BEGIN:STANDARD
TZOFFSETFROM:+0000
TZOFFSETTO:+0000
TZNAME:UTC
DTSTART:20230101T000000
END:STANDARD
END:VTIMEZONE
BEGIN:VEVENT
DTSTART;TZID=Europe/Paris:20240901T100000
DTEND;TZID=Europe/Paris:20240901T160000
DTSTAMP:20260425T160331
CREATED:20240820T132536Z
LAST-MODIFIED:20240822T133733Z
UID:4301-1725184800-1725206400@ramblersgelligaergroup.co.uk
SUMMARY:Carn Pica
DESCRIPTION:Starting at Blaen Y Gwyn UPPER car park 10 am we drop down into lower car park onto loose gravel path\, through woods\, over footbridges to meet stream\, walking alongside the stream (muddy\, gaiters and poles a good idea).  There are a series of small waterfalls.  After a break will climb up to Gwalciau’r Cwm.  Then follow ridge to Carn Pica.  After lunch break will cross open moorland to the Wellington Bomber Memorial.  Picking up another path into the Beacons Way.  There’s a steep section dropping back down to the car park.\n9 km\nStarting at: \nSO 05624 17593 \nhttp://What3words.com///dugouts.nuzzling.fame
URL:https://ramblersgelligaergroup.co.uk/event/carn-pica/
CATEGORIES:Sunday Walks Schedule
END:VEVENT
BEGIN:VEVENT
DTSTART;TZID=UTC:20240915T093000
DTEND;TZID=UTC:20240915T150000
DTSTAMP:20260425T160331
CREATED:20230204T183458Z
LAST-MODIFIED:20240904T154628Z
UID:3275-1726392600-1726412400@ramblersgelligaergroup.co.uk
SUMMARY:Senghenydd Horseshoe
DESCRIPTION:8 miles moderate \nStart from Abertridwr   http://what3words.com///freedom.lawfully.adopts \n9:30 start (or leaving Ystrad Mynach at 9:00 for those wishing to car share) \nDirections  – :travelling form Ystrad Mynach  – leave the Caerphilly bypass at the Trecentdd Roundabout (the one between the Cedar Tree and the Garden Centre) taking the right turn (3rd exit).  Go through the traffic lights and take the first exit (left) at the next mini roundabout.  Follow the road to Abertridwr.  In the town square the main road takes a sharp right \, ignore this and go straight on up  the hill (there is an eyecatching grey Nisi shop on the junction converted from an old hotel).  Signed for EGLWYSILAN.  Park on the side of the road just past the Royal Hotel. \nThe walk takes us up the valley on a what was the old railway line.  We then climb upon to the mooorland above the valley and follow the old Senghenydd Dyke towards the three radio towers (which overlook Pontypridd and are an easy to spot landmark).  We then drop down to Eglwysilan church and back to the start. There are marvelous views across the valleys and hills of the area throughout the walk.  Binoculars and cameras suggested..
URL:https://ramblersgelligaergroup.co.uk/event/senghenydd-horseshoe/
CATEGORIES:Sunday Walks Schedule
END:VEVENT
BEGIN:VEVENT
DTSTART;TZID=Europe/Paris:20240922T093000
DTEND;TZID=Europe/Paris:20240922T140000
DTSTAMP:20260425T160331
CREATED:20240921T091312Z
LAST-MODIFIED:20240921T112256Z
UID:4445-1726997400-1727013600@ramblersgelligaergroup.co.uk
SUMMARY:Deri roundabout - changed from planned walk
DESCRIPTION:Meet at Ystrad Mynach 9 am or Bristol Terrace Bargoed 9.30 am \nhttp://What3words.com///reject.could.earth \n  \n 
URL:https://ramblersgelligaergroup.co.uk/event/deri-roundabout/
CATEGORIES:Sunday Walks Schedule
END:VEVENT
BEGIN:VEVENT
DTSTART;TZID=UTC:20240928T100000
DTEND;TZID=UTC:20240928T143000
DTSTAMP:20260425T160331
CREATED:20230601T193213Z
LAST-MODIFIED:20240924T173221Z
UID:3808-1727517600-1727533800@ramblersgelligaergroup.co.uk
SUMMARY:Cold Knap Walk (re-scheduled from last week)
DESCRIPTION:Meet at Cold knap Car Park 10 am \nhttp://What3words.com///twitches.crop.tenure
URL:https://ramblersgelligaergroup.co.uk/event/cold-knapp/
CATEGORIES:Saturday Walks Schedule
END:VEVENT
END:VCALENDAR