BEGIN:VCALENDAR
VERSION:2.0
PRODID:-//Gelligaer Ramblers - ECPv6.15.20//NONSGML v1.0//EN
CALSCALE:GREGORIAN
METHOD:PUBLISH
X-ORIGINAL-URL:https://ramblersgelligaergroup.co.uk
X-WR-CALDESC:Events for Gelligaer Ramblers
REFRESH-INTERVAL;VALUE=DURATION:PT1H
X-Robots-Tag:noindex
X-PUBLISHED-TTL:PT1H
BEGIN:VTIMEZONE
TZID:UTC
BEGIN:STANDARD
TZOFFSETFROM:+0000
TZOFFSETTO:+0000
TZNAME:UTC
DTSTART:20240101T000000
END:STANDARD
END:VTIMEZONE
BEGIN:VEVENT
DTSTART;TZID=UTC:20250831T100000
DTEND;TZID=UTC:20250831T100000
DTSTAMP:20260420T152905
CREATED:20220829T082142Z
LAST-MODIFIED:20250828T182121Z
UID:2209-1756634400-1756634400@ramblersgelligaergroup.co.uk
SUMMARY:The Skirrid and apple picking
DESCRIPTION:Meet at the Skirrid Inn at 10 am 7.5 m mod \nhttp://What3words.com///nags.bolt.overcomes
URL:https://ramblersgelligaergroup.co.uk/event/pandy/
CATEGORIES:Sunday Walks Schedule
END:VEVENT
END:VCALENDAR