BEGIN:VCALENDAR
VERSION:2.0
PRODID:-//Gelligaer Ramblers - ECPv6.15.20//NONSGML v1.0//EN
CALSCALE:GREGORIAN
METHOD:PUBLISH
X-ORIGINAL-URL:https://ramblersgelligaergroup.co.uk
X-WR-CALDESC:Events for Gelligaer Ramblers
REFRESH-INTERVAL;VALUE=DURATION:PT1H
X-Robots-Tag:noindex
X-PUBLISHED-TTL:PT1H
BEGIN:VTIMEZONE
TZID:Europe/Paris
BEGIN:DAYLIGHT
TZOFFSETFROM:+0100
TZOFFSETTO:+0200
TZNAME:CEST
DTSTART:20240331T010000
END:DAYLIGHT
BEGIN:STANDARD
TZOFFSETFROM:+0200
TZOFFSETTO:+0100
TZNAME:CET
DTSTART:20241027T010000
END:STANDARD
BEGIN:DAYLIGHT
TZOFFSETFROM:+0100
TZOFFSETTO:+0200
TZNAME:CEST
DTSTART:20250330T010000
END:DAYLIGHT
BEGIN:STANDARD
TZOFFSETFROM:+0200
TZOFFSETTO:+0100
TZNAME:CET
DTSTART:20251026T010000
END:STANDARD
BEGIN:DAYLIGHT
TZOFFSETFROM:+0100
TZOFFSETTO:+0200
TZNAME:CEST
DTSTART:20260329T010000
END:DAYLIGHT
BEGIN:STANDARD
TZOFFSETFROM:+0200
TZOFFSETTO:+0100
TZNAME:CET
DTSTART:20261025T010000
END:STANDARD
END:VTIMEZONE
BEGIN:VEVENT
DTSTART;TZID=Europe/Paris:20250622T100000
DTEND;TZID=Europe/Paris:20250622T143000
DTSTAMP:20260421T160537
CREATED:20250615T155948Z
LAST-MODIFIED:20250618T185318Z
UID:4719-1750586400-1750602600@ramblersgelligaergroup.co.uk
SUMMARY:Barry Island/Cold Knap/Porthkerry Park
DESCRIPTION:8.5 miles\nEasy/Moderate\nStart at 10.00am from Nell’s Point Car Park\, Station Approach Road\, Barry Island\, CF62 5AH\nParking up to 6 hours is £6.00 (correct change or card) \nhttp://whats3words.com///claims.jelly.owner \nA lot of hard surface walking so suitable for walking shoes/trainers. \nSent from my iPad
URL:https://ramblersgelligaergroup.co.uk/event/barry/
CATEGORIES:Sunday Walks Schedule
END:VEVENT
END:VCALENDAR