BEGIN:VCALENDAR
VERSION:2.0
PRODID:-//Gelligaer Ramblers - ECPv6.15.20//NONSGML v1.0//EN
CALSCALE:GREGORIAN
METHOD:PUBLISH
X-ORIGINAL-URL:https://ramblersgelligaergroup.co.uk
X-WR-CALDESC:Events for Gelligaer Ramblers
REFRESH-INTERVAL;VALUE=DURATION:PT1H
X-Robots-Tag:noindex
X-PUBLISHED-TTL:PT1H
BEGIN:VTIMEZONE
TZID:UTC
BEGIN:STANDARD
TZOFFSETFROM:+0000
TZOFFSETTO:+0000
TZNAME:UTC
DTSTART:20250101T000000
END:STANDARD
END:VTIMEZONE
BEGIN:VTIMEZONE
TZID:Europe/Paris
BEGIN:DAYLIGHT
TZOFFSETFROM:+0100
TZOFFSETTO:+0200
TZNAME:CEST
DTSTART:20250330T010000
END:DAYLIGHT
BEGIN:STANDARD
TZOFFSETFROM:+0200
TZOFFSETTO:+0100
TZNAME:CET
DTSTART:20251026T010000
END:STANDARD
BEGIN:DAYLIGHT
TZOFFSETFROM:+0100
TZOFFSETTO:+0200
TZNAME:CEST
DTSTART:20260329T010000
END:DAYLIGHT
BEGIN:STANDARD
TZOFFSETFROM:+0200
TZOFFSETTO:+0100
TZNAME:CET
DTSTART:20261025T010000
END:STANDARD
BEGIN:DAYLIGHT
TZOFFSETFROM:+0100
TZOFFSETTO:+0200
TZNAME:CEST
DTSTART:20270328T010000
END:DAYLIGHT
BEGIN:STANDARD
TZOFFSETFROM:+0200
TZOFFSETTO:+0100
TZNAME:CET
DTSTART:20271031T010000
END:STANDARD
END:VTIMEZONE
BEGIN:VEVENT
DTSTART;TZID=UTC:20260418T100000
DTEND;TZID=UTC:20260418T140000
DTSTAMP:20260422T030711
CREATED:20221201T132758Z
LAST-MODIFIED:20260411T094644Z
UID:3048-1776506400-1776520800@ramblersgelligaergroup.co.uk
SUMMARY:The Ridgeway\, Newport
DESCRIPTION:Meet at the Ridgeway\, Allt-yr-Yn Avenue\, Newport 10 am \nWalking poles useful \nhttp://What3words.com///navy.trees.traps \n 
URL:https://ramblersgelligaergroup.co.uk/event/the-ridgeway-newport/
CATEGORIES:Saturday Walks Schedule
END:VEVENT
BEGIN:VEVENT
DTSTART;TZID=Europe/Paris:20260502T100000
DTEND;TZID=Europe/Paris:20260502T130000
DTSTAMP:20260422T030711
CREATED:20260418T195518Z
LAST-MODIFIED:20260418T195518Z
UID:4968-1777716000-1777726800@ramblersgelligaergroup.co.uk
SUMMARY:Cwm Darren Hillside
DESCRIPTION:A 4 mile walk starting from Parc Cwm Darren. \nHeading north from the cafe along the old railway line\,  we then circle back along the opposite hillside for a break near the stone marking the limit of Lord Bute’s mineral rights.  We then continue\, along the recent track\, to see the landscaping work on the waterfall and pool . Our route then takes us back through the forest just above the lake back to the start.
URL:https://ramblersgelligaergroup.co.uk/event/cwm-darren-hillside/
CATEGORIES:Saturday Walks Schedule
END:VEVENT
END:VCALENDAR