BEGIN:VCALENDAR
VERSION:2.0
PRODID:-//Gelligaer Ramblers - ECPv6.15.20//NONSGML v1.0//EN
CALSCALE:GREGORIAN
METHOD:PUBLISH
X-ORIGINAL-URL:https://ramblersgelligaergroup.co.uk
X-WR-CALDESC:Events for Gelligaer Ramblers
REFRESH-INTERVAL;VALUE=DURATION:PT1H
X-Robots-Tag:noindex
X-PUBLISHED-TTL:PT1H
BEGIN:VTIMEZONE
TZID:Europe/Paris
BEGIN:DAYLIGHT
TZOFFSETFROM:+0100
TZOFFSETTO:+0200
TZNAME:CEST
DTSTART:20240331T010000
END:DAYLIGHT
BEGIN:STANDARD
TZOFFSETFROM:+0200
TZOFFSETTO:+0100
TZNAME:CET
DTSTART:20241027T010000
END:STANDARD
BEGIN:DAYLIGHT
TZOFFSETFROM:+0100
TZOFFSETTO:+0200
TZNAME:CEST
DTSTART:20250330T010000
END:DAYLIGHT
BEGIN:STANDARD
TZOFFSETFROM:+0200
TZOFFSETTO:+0100
TZNAME:CET
DTSTART:20251026T010000
END:STANDARD
BEGIN:DAYLIGHT
TZOFFSETFROM:+0100
TZOFFSETTO:+0200
TZNAME:CEST
DTSTART:20260329T010000
END:DAYLIGHT
BEGIN:STANDARD
TZOFFSETFROM:+0200
TZOFFSETTO:+0100
TZNAME:CET
DTSTART:20261025T010000
END:STANDARD
END:VTIMEZONE
BEGIN:VTIMEZONE
TZID:UTC
BEGIN:STANDARD
TZOFFSETFROM:+0000
TZOFFSETTO:+0000
TZNAME:UTC
DTSTART:20240101T000000
END:STANDARD
END:VTIMEZONE
BEGIN:VEVENT
DTSTART;TZID=Europe/Paris:20251101T100000
DTEND;TZID=Europe/Paris:20251101T140000
DTSTAMP:20260421T113054
CREATED:20251029T165425Z
LAST-MODIFIED:20251029T165425Z
UID:4839-1761991200-1762005600@ramblersgelligaergroup.co.uk
SUMMARY:Around Nelson
DESCRIPTION:Meet at industrial estate before new Aldi in Nelson 10 am \nhttp://What3words.com///slyly.according.drums \n 
URL:https://ramblersgelligaergroup.co.uk/event/around-nelson/
CATEGORIES:Saturday Walks Schedule
END:VEVENT
BEGIN:VEVENT
DTSTART;TZID=UTC:20251122T093000
DTEND;TZID=UTC:20251122T133000
DTSTAMP:20260421T113054
CREATED:20231029T120220Z
LAST-MODIFIED:20251121T145652Z
UID:4045-1763803800-1763818200@ramblersgelligaergroup.co.uk
SUMMARY:Abercynon - postponed
DESCRIPTION:Meet at St Donat’s Church Aberdare Road Abercynon CF45 4NY at 9.30 am \nhttp://What3words.com///glad.boring.belief
URL:https://ramblersgelligaergroup.co.uk/event/abercynon-2/
CATEGORIES:Saturday Walks Schedule
END:VEVENT
END:VCALENDAR