BEGIN:VCALENDAR
VERSION:2.0
PRODID:-//Gelligaer Ramblers - ECPv6.15.20//NONSGML v1.0//EN
CALSCALE:GREGORIAN
METHOD:PUBLISH
X-ORIGINAL-URL:https://ramblersgelligaergroup.co.uk
X-WR-CALDESC:Events for Gelligaer Ramblers
REFRESH-INTERVAL;VALUE=DURATION:PT1H
X-Robots-Tag:noindex
X-PUBLISHED-TTL:PT1H
BEGIN:VTIMEZONE
TZID:UTC
BEGIN:STANDARD
TZOFFSETFROM:+0000
TZOFFSETTO:+0000
TZNAME:UTC
DTSTART:20240101T000000
END:STANDARD
END:VTIMEZONE
BEGIN:VTIMEZONE
TZID:Europe/Paris
BEGIN:DAYLIGHT
TZOFFSETFROM:+0100
TZOFFSETTO:+0200
TZNAME:CEST
DTSTART:20240331T010000
END:DAYLIGHT
BEGIN:STANDARD
TZOFFSETFROM:+0200
TZOFFSETTO:+0100
TZNAME:CET
DTSTART:20241027T010000
END:STANDARD
BEGIN:DAYLIGHT
TZOFFSETFROM:+0100
TZOFFSETTO:+0200
TZNAME:CEST
DTSTART:20250330T010000
END:DAYLIGHT
BEGIN:STANDARD
TZOFFSETFROM:+0200
TZOFFSETTO:+0100
TZNAME:CET
DTSTART:20251026T010000
END:STANDARD
BEGIN:DAYLIGHT
TZOFFSETFROM:+0100
TZOFFSETTO:+0200
TZNAME:CEST
DTSTART:20260329T010000
END:DAYLIGHT
BEGIN:STANDARD
TZOFFSETFROM:+0200
TZOFFSETTO:+0100
TZNAME:CET
DTSTART:20261025T010000
END:STANDARD
END:VTIMEZONE
BEGIN:VEVENT
DTSTART;TZID=UTC:20250809T100000
DTEND;TZID=UTC:20250809T133000
DTSTAMP:20260421T125335
CREATED:20220829T082526Z
LAST-MODIFIED:20250802T193135Z
UID:2211-1754733600-1754746200@ramblersgelligaergroup.co.uk
SUMMARY:Trinant circular
DESCRIPTION:Meet on Manmoel Rd\, Croespenmaen \nhttp://what3words.com///sling.seemingly.named
URL:https://ramblersgelligaergroup.co.uk/event/trinant-circular/
CATEGORIES:Saturday Walks Schedule
END:VEVENT
BEGIN:VEVENT
DTSTART;TZID=Europe/Paris:20250823T100000
DTEND;TZID=Europe/Paris:20250823T143000
DTSTAMP:20260421T125335
CREATED:20250813T151657Z
LAST-MODIFIED:20250813T151657Z
UID:4759-1755943200-1755959400@ramblersgelligaergroup.co.uk
SUMMARY:Lonely Shepherd
DESCRIPTION:Meet at Clydach Dingle Road\, Brynmawr 10 am \nhttp://What3words.com///skewed.smallest.protester
URL:https://ramblersgelligaergroup.co.uk/event/lonely-shepherd/
CATEGORIES:Saturday Walks Schedule
END:VEVENT
END:VCALENDAR