BEGIN:VCALENDAR
VERSION:2.0
PRODID:-//Gelligaer Ramblers - ECPv6.15.20//NONSGML v1.0//EN
CALSCALE:GREGORIAN
METHOD:PUBLISH
X-WR-CALNAME:Gelligaer Ramblers
X-ORIGINAL-URL:https://ramblersgelligaergroup.co.uk
X-WR-CALDESC:Events for Gelligaer Ramblers
REFRESH-INTERVAL;VALUE=DURATION:PT1H
X-Robots-Tag:noindex
X-PUBLISHED-TTL:PT1H
BEGIN:VTIMEZONE
TZID:UTC
BEGIN:STANDARD
TZOFFSETFROM:+0000
TZOFFSETTO:+0000
TZNAME:UTC
DTSTART:20240101T000000
END:STANDARD
END:VTIMEZONE
BEGIN:VTIMEZONE
TZID:Europe/Paris
BEGIN:DAYLIGHT
TZOFFSETFROM:+0100
TZOFFSETTO:+0200
TZNAME:CEST
DTSTART:20240331T010000
END:DAYLIGHT
BEGIN:STANDARD
TZOFFSETFROM:+0200
TZOFFSETTO:+0100
TZNAME:CET
DTSTART:20241027T010000
END:STANDARD
BEGIN:DAYLIGHT
TZOFFSETFROM:+0100
TZOFFSETTO:+0200
TZNAME:CEST
DTSTART:20250330T010000
END:DAYLIGHT
BEGIN:STANDARD
TZOFFSETFROM:+0200
TZOFFSETTO:+0100
TZNAME:CET
DTSTART:20251026T010000
END:STANDARD
BEGIN:DAYLIGHT
TZOFFSETFROM:+0100
TZOFFSETTO:+0200
TZNAME:CEST
DTSTART:20260329T010000
END:DAYLIGHT
BEGIN:STANDARD
TZOFFSETFROM:+0200
TZOFFSETTO:+0100
TZNAME:CET
DTSTART:20261025T010000
END:STANDARD
END:VTIMEZONE
BEGIN:VEVENT
DTSTART;TZID=UTC:20250719T100000
DTEND;TZID=UTC:20250719T133000
DTSTAMP:20260421T112820
CREATED:20230903T173303Z
LAST-MODIFIED:20250715T192554Z
UID:3994-1752919200-1752931800@ramblersgelligaergroup.co.uk
SUMMARY:Lake and Reservoir
DESCRIPTION:Park either side of the lake at Roath Park\, Cardiff. \nMeet on the promenade by the lighthouse.  Post Code CF23 5PA 10 am \nThere are no dogs allowed on this walk. \nhttp://What3words.com///wages.player.create \n 
URL:https://ramblersgelligaergroup.co.uk/event/lake-and-reservoir/
CATEGORIES:Saturday Walks Schedule
END:VEVENT
BEGIN:VEVENT
DTSTART;TZID=Europe/Paris:20250726T100000
DTEND;TZID=Europe/Paris:20250726T130000
DTSTAMP:20260421T112820
CREATED:20250715T200904Z
LAST-MODIFIED:20250715T200938Z
UID:4739-1753524000-1753534800@ramblersgelligaergroup.co.uk
SUMMARY:Neaudd Dam
DESCRIPTION:An easy 5.5 mile walk to the head of the Neuadd Valley giving spectacular views of Brecon Beacons (without the climbing). \nWalk starts from car park just beyond the bridge near the waterfalls \nhttps://what3words.com///began.interests.fights \nAs well as the usual mid-morning coffee break.  There will be the opportunity for a picnic at the end of the walk at the waterfalls.  (Goodies can be left in the cars as the waterfalls are very near the car park). Chance to cool your feet in the river !
URL:https://ramblersgelligaergroup.co.uk/event/neaudd-dam/
CATEGORIES:Saturday Walks Schedule
END:VEVENT
END:VCALENDAR