BEGIN:VCALENDAR
VERSION:2.0
PRODID:-//Gelligaer Ramblers - ECPv6.15.20//NONSGML v1.0//EN
CALSCALE:GREGORIAN
METHOD:PUBLISH
X-ORIGINAL-URL:https://ramblersgelligaergroup.co.uk
X-WR-CALDESC:Events for Gelligaer Ramblers
REFRESH-INTERVAL;VALUE=DURATION:PT1H
X-Robots-Tag:noindex
X-PUBLISHED-TTL:PT1H
BEGIN:VTIMEZONE
TZID:UTC
BEGIN:STANDARD
TZOFFSETFROM:+0000
TZOFFSETTO:+0000
TZNAME:UTC
DTSTART:20240101T000000
END:STANDARD
END:VTIMEZONE
BEGIN:VTIMEZONE
TZID:Europe/Paris
BEGIN:DAYLIGHT
TZOFFSETFROM:+0100
TZOFFSETTO:+0200
TZNAME:CEST
DTSTART:20240331T010000
END:DAYLIGHT
BEGIN:STANDARD
TZOFFSETFROM:+0200
TZOFFSETTO:+0100
TZNAME:CET
DTSTART:20241027T010000
END:STANDARD
BEGIN:DAYLIGHT
TZOFFSETFROM:+0100
TZOFFSETTO:+0200
TZNAME:CEST
DTSTART:20250330T010000
END:DAYLIGHT
BEGIN:STANDARD
TZOFFSETFROM:+0200
TZOFFSETTO:+0100
TZNAME:CET
DTSTART:20251026T010000
END:STANDARD
BEGIN:DAYLIGHT
TZOFFSETFROM:+0100
TZOFFSETTO:+0200
TZNAME:CEST
DTSTART:20260329T010000
END:DAYLIGHT
BEGIN:STANDARD
TZOFFSETFROM:+0200
TZOFFSETTO:+0100
TZNAME:CET
DTSTART:20261025T010000
END:STANDARD
END:VTIMEZONE
BEGIN:VEVENT
DTSTART;TZID=UTC:20250517T100000
DTEND;TZID=UTC:20250517T123000
DTSTAMP:20260423T122344
CREATED:20220604T083842Z
LAST-MODIFIED:20250513T092816Z
UID:1990-1747476000-1747485000@ramblersgelligaergroup.co.uk
SUMMARY:Castell Coch
DESCRIPTION:Just over 3 miles through the woods around Castell Coch. \nMeet in the top car park on the road after the Black cock Pub and the Golf Coure just after the turning on the right towards Tongwynlais (Not the car park by the castle) \nhttps://what3words.com///than.brush.hils \n 
URL:https://ramblersgelligaergroup.co.uk/event/castell-coch/
CATEGORIES:Saturday Walks Schedule
END:VEVENT
BEGIN:VEVENT
DTSTART;TZID=Europe/Paris:20250531T100000
DTEND;TZID=Europe/Paris:20250531T140000
DTSTAMP:20260423T122344
CREATED:20250514T192121Z
LAST-MODIFIED:20250514T192121Z
UID:4701-1748685600-1748700000@ramblersgelligaergroup.co.uk
SUMMARY:Merthyr
DESCRIPTION:Meet at car park above Asda\, next to new Dunelms in Merthyr at 10 am. \nhttp://What3words.com///long.engage.gallons \n 
URL:https://ramblersgelligaergroup.co.uk/event/merthyr-2/
CATEGORIES:Saturday Walks Schedule
END:VEVENT
END:VCALENDAR