BEGIN:VCALENDAR
VERSION:2.0
PRODID:-//Gelligaer Ramblers - ECPv6.15.20//NONSGML v1.0//EN
CALSCALE:GREGORIAN
METHOD:PUBLISH
X-ORIGINAL-URL:https://ramblersgelligaergroup.co.uk
X-WR-CALDESC:Events for Gelligaer Ramblers
REFRESH-INTERVAL;VALUE=DURATION:PT1H
X-Robots-Tag:noindex
X-PUBLISHED-TTL:PT1H
BEGIN:VTIMEZONE
TZID:UTC
BEGIN:STANDARD
TZOFFSETFROM:+0000
TZOFFSETTO:+0000
TZNAME:UTC
DTSTART:20210101T000000
END:STANDARD
END:VTIMEZONE
BEGIN:VEVENT
DTSTART;TZID=UTC:20220903T100000
DTEND;TZID=UTC:20220903T140000
DTSTAMP:20260425T134334
CREATED:20220727T150903Z
LAST-MODIFIED:20220727T150903Z
UID:2192-1662199200-1662213600@ramblersgelligaergroup.co.uk
SUMMARY:Gelligaer Common
DESCRIPTION:
URL:https://ramblersgelligaergroup.co.uk/event/gelligaer-common/
CATEGORIES:Saturday Walks Schedule
END:VEVENT
END:VCALENDAR