BEGIN:VCALENDAR
VERSION:2.0
PRODID:-//Gelligaer Ramblers - ECPv6.15.20//NONSGML v1.0//EN
CALSCALE:GREGORIAN
METHOD:PUBLISH
X-WR-CALNAME:Gelligaer Ramblers
X-ORIGINAL-URL:https://ramblersgelligaergroup.co.uk
X-WR-CALDESC:Events for Gelligaer Ramblers
REFRESH-INTERVAL;VALUE=DURATION:PT1H
X-Robots-Tag:noindex
X-PUBLISHED-TTL:PT1H
BEGIN:VTIMEZONE
TZID:Europe/Paris
BEGIN:DAYLIGHT
TZOFFSETFROM:+0100
TZOFFSETTO:+0200
TZNAME:CEST
DTSTART:20240331T010000
END:DAYLIGHT
BEGIN:STANDARD
TZOFFSETFROM:+0200
TZOFFSETTO:+0100
TZNAME:CET
DTSTART:20241027T010000
END:STANDARD
BEGIN:DAYLIGHT
TZOFFSETFROM:+0100
TZOFFSETTO:+0200
TZNAME:CEST
DTSTART:20250330T010000
END:DAYLIGHT
BEGIN:STANDARD
TZOFFSETFROM:+0200
TZOFFSETTO:+0100
TZNAME:CET
DTSTART:20251026T010000
END:STANDARD
BEGIN:DAYLIGHT
TZOFFSETFROM:+0100
TZOFFSETTO:+0200
TZNAME:CEST
DTSTART:20260329T010000
END:DAYLIGHT
BEGIN:STANDARD
TZOFFSETFROM:+0200
TZOFFSETTO:+0100
TZNAME:CET
DTSTART:20261025T010000
END:STANDARD
END:VTIMEZONE
BEGIN:VEVENT
DTSTART;TZID=Europe/Paris:20250301T100000
DTEND;TZID=Europe/Paris:20250301T140000
DTSTAMP:20260421T162313
CREATED:20250207T152736Z
LAST-MODIFIED:20250207T152826Z
UID:4615-1740823200-1740837600@ramblersgelligaergroup.co.uk
SUMMARY:Morlais Castle
DESCRIPTION:Meet at Brecon Mountain Railway car park 10 am \nhttp://What3words.com///method.boss.native \n  \n 
URL:https://ramblersgelligaergroup.co.uk/event/morlais-castle/
CATEGORIES:Saturday Walks Schedule
END:VEVENT
END:VCALENDAR