BEGIN:VCALENDAR
VERSION:2.0
PRODID:-//Gelligaer Ramblers - ECPv6.15.20//NONSGML v1.0//EN
CALSCALE:GREGORIAN
METHOD:PUBLISH
X-WR-CALNAME:Gelligaer Ramblers
X-ORIGINAL-URL:https://ramblersgelligaergroup.co.uk
X-WR-CALDESC:Events for Gelligaer Ramblers
REFRESH-INTERVAL;VALUE=DURATION:PT1H
X-Robots-Tag:noindex
X-PUBLISHED-TTL:PT1H
BEGIN:VTIMEZONE
TZID:UTC
BEGIN:STANDARD
TZOFFSETFROM:+0000
TZOFFSETTO:+0000
TZNAME:UTC
DTSTART:20240101T000000
END:STANDARD
END:VTIMEZONE
BEGIN:VEVENT
DTSTART;TZID=UTC:20250222T100000
DTEND;TZID=UTC:20250222T133000
DTSTAMP:20260423T133837
CREATED:20230517T133918Z
LAST-MODIFIED:20250220T113904Z
UID:3738-1740218400-1740231000@ramblersgelligaergroup.co.uk
SUMMARY:Fforest Farm
DESCRIPTION:  \n5m walk around Fforest Farm passing alongside the River Taff and the old Glamorgan Canal. \nMeet on Longwood Drive Fforest Farm\, Cardiff 10 am \nhttp://What3words.com///moral.tidy.rush\n \n 
URL:https://ramblersgelligaergroup.co.uk/event/fforest-farm/
CATEGORIES:Saturday Walks Schedule
END:VEVENT
END:VCALENDAR