BEGIN:VCALENDAR
VERSION:2.0
PRODID:-//Gelligaer Ramblers - ECPv6.15.20//NONSGML v1.0//EN
CALSCALE:GREGORIAN
METHOD:PUBLISH
X-WR-CALNAME:Gelligaer Ramblers
X-ORIGINAL-URL:https://ramblersgelligaergroup.co.uk
X-WR-CALDESC:Events for Gelligaer Ramblers
REFRESH-INTERVAL;VALUE=DURATION:PT1H
X-Robots-Tag:noindex
X-PUBLISHED-TTL:PT1H
BEGIN:VTIMEZONE
TZID:Europe/Paris
BEGIN:DAYLIGHT
TZOFFSETFROM:+0100
TZOFFSETTO:+0200
TZNAME:CEST
DTSTART:20230326T010000
END:DAYLIGHT
BEGIN:STANDARD
TZOFFSETFROM:+0200
TZOFFSETTO:+0100
TZNAME:CET
DTSTART:20231029T010000
END:STANDARD
BEGIN:DAYLIGHT
TZOFFSETFROM:+0100
TZOFFSETTO:+0200
TZNAME:CEST
DTSTART:20240331T010000
END:DAYLIGHT
BEGIN:STANDARD
TZOFFSETFROM:+0200
TZOFFSETTO:+0100
TZNAME:CET
DTSTART:20241027T010000
END:STANDARD
BEGIN:DAYLIGHT
TZOFFSETFROM:+0100
TZOFFSETTO:+0200
TZNAME:CEST
DTSTART:20250330T010000
END:DAYLIGHT
BEGIN:STANDARD
TZOFFSETFROM:+0200
TZOFFSETTO:+0100
TZNAME:CET
DTSTART:20251026T010000
END:STANDARD
END:VTIMEZONE
BEGIN:VEVENT
DTSTART;TZID=Europe/Paris:20241117T094500
DTEND;TZID=Europe/Paris:20241117T150000
DTSTAMP:20260425T142501
CREATED:20241101T190014Z
LAST-MODIFIED:20241116T151836Z
UID:4466-1731836700-1731855600@ramblersgelligaergroup.co.uk
SUMMARY:Bedwellty Park Tredegar via Cefn Manmoel
DESCRIPTION:9.45 am start from Stable Lane Car Park (near Tredegar Comprehensive just off the A4048).  Nearest postcode NP22 4BH \nA flat walk from nearby Bedwellty Park following the Sirhowy River towards Bedwellty Pits before a gradual upward walk onto Cefn Manmoel.  The walk will end with a visit to Bedwellty Park. \nhttp://What3words.com///stove.champions.pulses
URL:https://ramblersgelligaergroup.co.uk/event/bedwellty-park-tredegar-via-cefn-manmoel/
CATEGORIES:Sunday Walks Schedule
END:VEVENT
END:VCALENDAR