BEGIN:VCALENDAR
VERSION:2.0
PRODID:-//Gelligaer Ramblers - ECPv6.15.20//NONSGML v1.0//EN
CALSCALE:GREGORIAN
METHOD:PUBLISH
X-WR-CALNAME:Gelligaer Ramblers
X-ORIGINAL-URL:https://ramblersgelligaergroup.co.uk
X-WR-CALDESC:Events for Gelligaer Ramblers
REFRESH-INTERVAL;VALUE=DURATION:PT1H
X-Robots-Tag:noindex
X-PUBLISHED-TTL:PT1H
BEGIN:VTIMEZONE
TZID:Europe/Paris
BEGIN:DAYLIGHT
TZOFFSETFROM:+0100
TZOFFSETTO:+0200
TZNAME:CEST
DTSTART:20230326T010000
END:DAYLIGHT
BEGIN:STANDARD
TZOFFSETFROM:+0200
TZOFFSETTO:+0100
TZNAME:CET
DTSTART:20231029T010000
END:STANDARD
BEGIN:DAYLIGHT
TZOFFSETFROM:+0100
TZOFFSETTO:+0200
TZNAME:CEST
DTSTART:20240331T010000
END:DAYLIGHT
BEGIN:STANDARD
TZOFFSETFROM:+0200
TZOFFSETTO:+0100
TZNAME:CET
DTSTART:20241027T010000
END:STANDARD
BEGIN:DAYLIGHT
TZOFFSETFROM:+0100
TZOFFSETTO:+0200
TZNAME:CEST
DTSTART:20250330T010000
END:DAYLIGHT
BEGIN:STANDARD
TZOFFSETFROM:+0200
TZOFFSETTO:+0100
TZNAME:CET
DTSTART:20251026T010000
END:STANDARD
END:VTIMEZONE
BEGIN:VEVENT
DTSTART;TZID=Europe/Paris:20241027T100000
DTEND;TZID=Europe/Paris:20241027T150000
DTSTAMP:20260425T160211
CREATED:20241003T194042Z
LAST-MODIFIED:20241003T194401Z
UID:4458-1730023200-1730041200@ramblersgelligaergroup.co.uk
SUMMARY:Cowbridge/St Hilary
DESCRIPTION:7 miles  A flat walk with minimal climbs and rural scenery.  On the easier side of moderate \nLeave Ystrad Mynach at 9:00 for car sharing. \nWalk starts at 10 am from the main car park in the centre of Cowbridge. The entrance is alongside the town hall near the War Memorial statue.  Car parking is free on Sunday. \nhttps://what3words.com///rhino.spoken.trendy \nIf you want to see details of the walk they can be found at \nhttps://sthilary.org.uk/images/files/walks/west.pdf \nNote that we will be starting the walk from Location #14 (Cowbridge) and taking our coffee break near the Bush Inn in St Hilary
URL:https://ramblersgelligaergroup.co.uk/event/cowbridge-st-hilary/
CATEGORIES:Sunday Walks Schedule
END:VEVENT
END:VCALENDAR