BEGIN:VCALENDAR
VERSION:2.0
PRODID:-//Gelligaer Ramblers - ECPv6.15.20//NONSGML v1.0//EN
CALSCALE:GREGORIAN
METHOD:PUBLISH
X-ORIGINAL-URL:https://ramblersgelligaergroup.co.uk
X-WR-CALDESC:Events for Gelligaer Ramblers
REFRESH-INTERVAL;VALUE=DURATION:PT1H
X-Robots-Tag:noindex
X-PUBLISHED-TTL:PT1H
BEGIN:VTIMEZONE
TZID:UTC
BEGIN:STANDARD
TZOFFSETFROM:+0000
TZOFFSETTO:+0000
TZNAME:UTC
DTSTART:20230101T000000
END:STANDARD
END:VTIMEZONE
BEGIN:VEVENT
DTSTART;TZID=UTC:20240915T093000
DTEND;TZID=UTC:20240915T150000
DTSTAMP:20260425T201209
CREATED:20230204T183458Z
LAST-MODIFIED:20240904T154628Z
UID:3275-1726392600-1726412400@ramblersgelligaergroup.co.uk
SUMMARY:Senghenydd Horseshoe
DESCRIPTION:8 miles moderate \nStart from Abertridwr   http://what3words.com///freedom.lawfully.adopts \n9:30 start (or leaving Ystrad Mynach at 9:00 for those wishing to car share) \nDirections  – :travelling form Ystrad Mynach  – leave the Caerphilly bypass at the Trecentdd Roundabout (the one between the Cedar Tree and the Garden Centre) taking the right turn (3rd exit).  Go through the traffic lights and take the first exit (left) at the next mini roundabout.  Follow the road to Abertridwr.  In the town square the main road takes a sharp right \, ignore this and go straight on up  the hill (there is an eyecatching grey Nisi shop on the junction converted from an old hotel).  Signed for EGLWYSILAN.  Park on the side of the road just past the Royal Hotel. \nThe walk takes us up the valley on a what was the old railway line.  We then climb upon to the mooorland above the valley and follow the old Senghenydd Dyke towards the three radio towers (which overlook Pontypridd and are an easy to spot landmark).  We then drop down to Eglwysilan church and back to the start. There are marvelous views across the valleys and hills of the area throughout the walk.  Binoculars and cameras suggested..
URL:https://ramblersgelligaergroup.co.uk/event/senghenydd-horseshoe/
CATEGORIES:Sunday Walks Schedule
END:VEVENT
END:VCALENDAR